BEGIN:VCALENDAR
VERSION:2.0
PRODID:-//Wohl-Klang - ECPv6.15.20//NONSGML v1.0//EN
CALSCALE:GREGORIAN
METHOD:PUBLISH
X-WR-CALNAME:Wohl-Klang
X-ORIGINAL-URL:https://www.wohl-klang-dibke.de
X-WR-CALDESC:Veranstaltungen für Wohl-Klang
REFRESH-INTERVAL;VALUE=DURATION:PT1H
X-Robots-Tag:noindex
X-PUBLISHED-TTL:PT1H
BEGIN:VTIMEZONE
TZID:Europe/Berlin
BEGIN:DAYLIGHT
TZOFFSETFROM:+0100
TZOFFSETTO:+0200
TZNAME:CEST
DTSTART:20180325T010000
END:DAYLIGHT
BEGIN:STANDARD
TZOFFSETFROM:+0200
TZOFFSETTO:+0100
TZNAME:CET
DTSTART:20181028T010000
END:STANDARD
BEGIN:DAYLIGHT
TZOFFSETFROM:+0100
TZOFFSETTO:+0200
TZNAME:CEST
DTSTART:20190331T010000
END:DAYLIGHT
BEGIN:STANDARD
TZOFFSETFROM:+0200
TZOFFSETTO:+0100
TZNAME:CET
DTSTART:20191027T010000
END:STANDARD
BEGIN:DAYLIGHT
TZOFFSETFROM:+0100
TZOFFSETTO:+0200
TZNAME:CEST
DTSTART:20200329T010000
END:DAYLIGHT
BEGIN:STANDARD
TZOFFSETFROM:+0200
TZOFFSETTO:+0100
TZNAME:CET
DTSTART:20201025T010000
END:STANDARD
END:VTIMEZONE
BEGIN:VEVENT
DTSTART;VALUE=DATE:20191109
DTEND;VALUE=DATE:20191110
DTSTAMP:20260420T102710
CREATED:20191018T063353Z
LAST-MODIFIED:20191018T063353Z
UID:5071-1573257600-1573343999@www.wohl-klang-dibke.de
SUMMARY:09.11.2019 – Workshop „Intuitive Musik“
DESCRIPTION:Intuitive Musik ist nicht nur etwas für Menschen\, die über ihr Trauma mit dem Blockflöten-Unterricht nicht die Liebe zur Musik verloren haben… \nEs gibt eine Vielzahl intuitiv spielbarer Instrumente zu entdecken: \n> Sansulas & Kalimbas\n> Shrutibox\n> Klangspiele\n> Glockenspiele\n> Indianerflöten\n> Didgeridoo\, Fujara\, Obertonflöten\n> (schamanische) Trommeln & Percussion\n> Djemben\n> Walhalladrum\n> Steeldrum\n> (Kristall-)Klangschalen\n> RAV VAST\, Hang\n> Harfe\n> Kantele\, Scheitholt\, Dulcimer\n> Lithophon\n> (Körper-)Monochorde und Klangliege\n> Gongs\n> Maultrommeln\n> und vieles mehr… \nIch stelle ein breites Spektrum an verschiedensten Instrumenten vor\, mit denen Jedermann ohne jede Vorübung wohltuende und (auch für Ihre Nachbarn) bereichende Klänge erzeugen kann. \nEintauchen in eine neue Welt\, in der die Musik Freude bringt und zur Entspannung beiträgt.\nEntdecke die Welt der Instrumente\, spielend (im wahrsten Sinne)\, experimentell\, mit Theorie und vor Allem viel Praxis! \nWo kannst Du viele unterschiedliche Instrumente an 1 Tag kennenlernen? \nWas ist intuitives Spielen? \nWas brauche ich dazu? \nAll diese spannenden Fragen werden wir an diesem Tag gemeinsam klären – mit ausreichend Raum für alle Deine Interessen und persönlichen Vorlieben! \nWorkshops biete ich auch gerne für Kinder an\, welche in die Welt der Klänge eintauchen möchten (Termine auf Anfrage). \nKosten:\n149 €\nWegen der auf 6 Personen begrenzten Teilnehmerzahl ist eine frühzeitige Anmeldung und Anzahlung von 100 € erforderlich.  \nOrt:\nCielo – Raum für Bewegung\, Bewusstseinsentwicklung und Heilung\nDornhaldenstraße 10/1\n70199 Stuttgart \nAnmeldung:\nTelefonisch unter +49 1573 959 1874 \nWegen einer auf 6 Personen begrenzten Teilnehmerzahl wird um frühzeitige Anmeldung gebeten.
URL:https://www.wohl-klang-dibke.de/event/09-11-2019-workshop-intuitive-musik/
LOCATION:Cielo\, Dornhaldenstr. 10/1\, Stuttgart\, 70199
END:VEVENT
END:VCALENDAR